BEGIN:VCALENDAR
VERSION:2.0
PRODID:-//ÅBY RIDCENTER • RIDSKOLA • RIDKLUBB • RIDLÄGER - ECPv6.15.20//NONSGML v1.0//EN
CALSCALE:GREGORIAN
METHOD:PUBLISH
X-WR-CALNAME:ÅBY RIDCENTER • RIDSKOLA • RIDKLUBB • RIDLÄGER
X-ORIGINAL-URL:https://abyridcenter.se
X-WR-CALDESC:Händelser för ÅBY RIDCENTER • RIDSKOLA • RIDKLUBB • RIDLÄGER
REFRESH-INTERVAL;VALUE=DURATION:PT1H
X-Robots-Tag:noindex
X-PUBLISHED-TTL:PT1H
BEGIN:VTIMEZONE
TZID:UTC
BEGIN:STANDARD
TZOFFSETFROM:+0000
TZOFFSETTO:+0000
TZNAME:UTC
DTSTART:20250101T000000
END:STANDARD
END:VTIMEZONE
BEGIN:VEVENT
DTSTART;TZID=UTC:20260204T080000
DTEND;TZID=UTC:20260204T170000
DTSTAMP:20260421T130022
CREATED:20260129T102906Z
LAST-MODIFIED:20260129T102912Z
UID:4380-1770192000-1770224400@abyridcenter.se
SUMMARY:Kunskapstillfällen - teori
DESCRIPTION:
URL:https://abyridcenter.se/evenemang/kunskapstillfallen-teori/
END:VEVENT
BEGIN:VEVENT
DTSTART;TZID=UTC:20260212T080000
DTEND;TZID=UTC:20260212T170000
DTSTAMP:20260421T130022
CREATED:20260129T103103Z
LAST-MODIFIED:20260129T103103Z
UID:4382-1770883200-1770915600@abyridcenter.se
SUMMARY:Kunskapstillfällen - teori
DESCRIPTION:
URL:https://abyridcenter.se/evenemang/kunskapstillfallen-teori-2/
END:VEVENT
END:VCALENDAR