BEGIN:VCALENDAR
VERSION:2.0
PRODID:-//ÅBY RIDCENTER • RIDSKOLA • RIDKLUBB • RIDLÄGER - ECPv6.15.20//NONSGML v1.0//EN
CALSCALE:GREGORIAN
METHOD:PUBLISH
X-ORIGINAL-URL:https://abyridcenter.se
X-WR-CALDESC:Händelser för ÅBY RIDCENTER • RIDSKOLA • RIDKLUBB • RIDLÄGER
REFRESH-INTERVAL;VALUE=DURATION:PT1H
X-Robots-Tag:noindex
X-PUBLISHED-TTL:PT1H
BEGIN:VTIMEZONE
TZID:UTC
BEGIN:STANDARD
TZOFFSETFROM:+0000
TZOFFSETTO:+0000
TZNAME:UTC
DTSTART:20240101T000000
END:STANDARD
END:VTIMEZONE
BEGIN:VEVENT
DTSTART;TZID=UTC:20250504T140000
DTEND;TZID=UTC:20250504T160000
DTSTAMP:20260422T110031
CREATED:20250214T154228Z
LAST-MODIFIED:20250411T115742Z
UID:3795-1746367200-1746374400@abyridcenter.se
SUMMARY:Klubbdressyr
DESCRIPTION:
URL:https://abyridcenter.se/evenemang/klubbdressyr-2/
ATTACH;FMTTYPE=image/jpeg:https://abyridcenter.se/wp-content/uploads/2022/04/dressage-1308564_960_720.jpg
END:VEVENT
BEGIN:VEVENT
DTSTART;TZID=UTC:20250427T080000
DTEND;TZID=UTC:20250427T170000
DTSTAMP:20260422T110031
CREATED:20250214T133808Z
LAST-MODIFIED:20250214T133808Z
UID:3791-1745740800-1745773200@abyridcenter.se
SUMMARY:Dressyrkurs med Mimmi Elmermark
DESCRIPTION:Ev. Dressyrkurs med Mimmi Elmermark. Info. kommer längre fram.
URL:https://abyridcenter.se/evenemang/dressyrkurs-med-mimmi-elmermark/
ATTACH;FMTTYPE=image/jpeg:https://abyridcenter.se/wp-content/uploads/2022/03/10172671_755995627784996_135277667906711131_n.jpg
END:VEVENT
BEGIN:VEVENT
DTSTART;TZID=UTC:20250426T080000
DTEND;TZID=UTC:20250426T170000
DTSTAMP:20260422T110031
CREATED:20250214T132952Z
LAST-MODIFIED:20250214T133505Z
UID:3787-1745654400-1745686800@abyridcenter.se
SUMMARY:Division 3. Hopptävling
DESCRIPTION:Div.3. Omgång 2. Kimstad.
URL:https://abyridcenter.se/evenemang/division-3-hopptavling-2/
END:VEVENT
END:VCALENDAR