BEGIN:VCALENDAR
VERSION:2.0
PRODID:-//ÅBY RIDCENTER • RIDSKOLA • RIDKLUBB • RIDLÄGER - ECPv6.15.20//NONSGML v1.0//EN
CALSCALE:GREGORIAN
METHOD:PUBLISH
X-WR-CALNAME:ÅBY RIDCENTER • RIDSKOLA • RIDKLUBB • RIDLÄGER
X-ORIGINAL-URL:https://abyridcenter.se
X-WR-CALDESC:Händelser för ÅBY RIDCENTER • RIDSKOLA • RIDKLUBB • RIDLÄGER
REFRESH-INTERVAL;VALUE=DURATION:PT1H
X-Robots-Tag:noindex
X-PUBLISHED-TTL:PT1H
BEGIN:VTIMEZONE
TZID:UTC
BEGIN:STANDARD
TZOFFSETFROM:+0000
TZOFFSETTO:+0000
TZNAME:UTC
DTSTART:20240101T000000
END:STANDARD
END:VTIMEZONE
BEGIN:VEVENT
DTSTART;TZID=UTC:20250904T080000
DTEND;TZID=UTC:20250907T180000
DTSTAMP:20260421T165426
CREATED:20250822T135143Z
LAST-MODIFIED:20250822T135143Z
UID:4132-1756972800-1757268000@abyridcenter.se
SUMMARY:Norrköping Horseshow - hopptävlingar
DESCRIPTION:
URL:https://abyridcenter.se/evenemang/norrkoping-horseshow-hopptavlingar/
END:VEVENT
BEGIN:VEVENT
DTSTART;TZID=UTC:20250912T080000
DTEND;TZID=UTC:20250914T170000
DTSTAMP:20260421T165426
CREATED:20250822T135345Z
LAST-MODIFIED:20250822T135345Z
UID:4134-1757664000-1757869200@abyridcenter.se
SUMMARY:Norrköping Pony Show - hopptävling
DESCRIPTION:
URL:https://abyridcenter.se/evenemang/norrkoping-pony-show-hopptavling/
END:VEVENT
BEGIN:VEVENT
DTSTART;TZID=UTC:20250924T080000
DTEND;TZID=UTC:20250924T170000
DTSTAMP:20260421T165426
CREATED:20250923T141540Z
LAST-MODIFIED:20250923T141540Z
UID:4147-1758700800-1758733200@abyridcenter.se
SUMMARY:Teoridag för alla ridskoleelever
DESCRIPTION:Teoridag med Hästmys\, lastning och löshoppning. För alla ridskoleelever.\nFör mer info\, gå in på minridskola.se
URL:https://abyridcenter.se/evenemang/teoridag-for-alla-ridskoleelever/
END:VEVENT
BEGIN:VEVENT
DTSTART;TZID=UTC:20250929T080000
DTEND;TZID=UTC:20250929T170000
DTSTAMP:20260421T165426
CREATED:20250923T141806Z
LAST-MODIFIED:20250923T141806Z
UID:4149-1759132800-1759165200@abyridcenter.se
SUMMARY:Teoridag - Longering
DESCRIPTION:Teoridag för alla ridskoleelever. Longering.\nFör mer info. gå in på minridskola.se
URL:https://abyridcenter.se/evenemang/teoridag-longering/
END:VEVENT
END:VCALENDAR