BEGIN:VCALENDAR
VERSION:2.0
PRODID:-//ÅBY RIDCENTER • RIDSKOLA • RIDKLUBB • RIDLÄGER - ECPv6.15.20//NONSGML v1.0//EN
CALSCALE:GREGORIAN
METHOD:PUBLISH
X-WR-CALNAME:ÅBY RIDCENTER • RIDSKOLA • RIDKLUBB • RIDLÄGER
X-ORIGINAL-URL:https://abyridcenter.se
X-WR-CALDESC:Händelser för ÅBY RIDCENTER • RIDSKOLA • RIDKLUBB • RIDLÄGER
REFRESH-INTERVAL;VALUE=DURATION:PT1H
X-Robots-Tag:noindex
X-PUBLISHED-TTL:PT1H
BEGIN:VTIMEZONE
TZID:UTC
BEGIN:STANDARD
TZOFFSETFROM:+0000
TZOFFSETTO:+0000
TZNAME:UTC
DTSTART:20240101T000000
END:STANDARD
END:VTIMEZONE
BEGIN:VEVENT
DTSTART;TZID=UTC:20251012T080000
DTEND;TZID=UTC:20251012T170000
DTSTAMP:20260421T151014
CREATED:20250923T142418Z
LAST-MODIFIED:20250930T121156Z
UID:4155-1760256000-1760288400@abyridcenter.se
SUMMARY:Klubbdressyr
DESCRIPTION:
URL:https://abyridcenter.se/evenemang/klubbdressyr/
ATTACH;FMTTYPE=image/jpeg:https://abyridcenter.se/wp-content/uploads/2022/04/dressage-1308564_960_720.jpg
END:VEVENT
BEGIN:VEVENT
DTSTART;TZID=UTC:20251026T080000
DTEND;TZID=UTC:20251026T170000
DTSTAMP:20260421T151014
CREATED:20250923T142024Z
LAST-MODIFIED:20250923T142024Z
UID:4151-1761465600-1761498000@abyridcenter.se
SUMMARY:Dressyrkurs
DESCRIPTION:Dressyrkurs med Mimmi Elmermark. För mer info. se minridskola.se
URL:https://abyridcenter.se/evenemang/dressyrkurs/
END:VEVENT
BEGIN:VEVENT
DTSTART;TZID=UTC:20251026T143000
DTEND;TZID=UTC:20251026T153000
DTSTAMP:20260421T151014
CREATED:20250924T150652Z
LAST-MODIFIED:20250924T150652Z
UID:4157-1761489000-1761492600@abyridcenter.se
SUMMARY:Prova-På ridning för vuxna och barn
DESCRIPTION:Prova-På ridning för vuxna och barn. Inga förkunskaper krävs.\nFör mer info. och anmälan kontakta ridskolan.
URL:https://abyridcenter.se/evenemang/prova-pa-ridning-for-vuxna-och-barn/
END:VEVENT
BEGIN:VEVENT
DTSTART;TZID=UTC:20251027T080000
DTEND;TZID=UTC:20251102T170000
DTSTAMP:20260421T151014
CREATED:20250924T151754Z
LAST-MODIFIED:20250924T151754Z
UID:4160-1761552000-1762102800@abyridcenter.se
SUMMARY:Höstlov och aktiviteter
DESCRIPTION:Under vecka 44 arrangerar ridskolan olika aktiviteter. För mer information\, gå till startsidan under fliken ”Detta händer hos oss”.
URL:https://abyridcenter.se/evenemang/hostlov-och-aktiviteter/
END:VEVENT
END:VCALENDAR