BEGIN:VCALENDAR
VERSION:2.0
PRODID:-//ÅBY RIDCENTER • RIDSKOLA • RIDKLUBB • RIDLÄGER - ECPv6.15.20//NONSGML v1.0//EN
CALSCALE:GREGORIAN
METHOD:PUBLISH
X-WR-CALNAME:ÅBY RIDCENTER • RIDSKOLA • RIDKLUBB • RIDLÄGER
X-ORIGINAL-URL:https://abyridcenter.se
X-WR-CALDESC:Händelser för ÅBY RIDCENTER • RIDSKOLA • RIDKLUBB • RIDLÄGER
REFRESH-INTERVAL;VALUE=DURATION:PT1H
X-Robots-Tag:noindex
X-PUBLISHED-TTL:PT1H
BEGIN:VTIMEZONE
TZID:UTC
BEGIN:STANDARD
TZOFFSETFROM:+0000
TZOFFSETTO:+0000
TZNAME:UTC
DTSTART:20240101T000000
END:STANDARD
END:VTIMEZONE
BEGIN:VEVENT
DTSTART;TZID=UTC:20251027T080000
DTEND;TZID=UTC:20251102T170000
DTSTAMP:20260421T095323
CREATED:20250924T151754Z
LAST-MODIFIED:20250924T151754Z
UID:4160-1761552000-1762102800@abyridcenter.se
SUMMARY:Höstlov och aktiviteter
DESCRIPTION:Under vecka 44 arrangerar ridskolan olika aktiviteter. För mer information\, gå till startsidan under fliken ”Detta händer hos oss”.
URL:https://abyridcenter.se/evenemang/hostlov-och-aktiviteter/
END:VEVENT
BEGIN:VEVENT
DTSTART;TZID=UTC:20251113T080000
DTEND;TZID=UTC:20251113T170000
DTSTAMP:20260421T095323
CREATED:20250924T152107Z
LAST-MODIFIED:20250924T152323Z
UID:4162-1763020800-1763053200@abyridcenter.se
SUMMARY:Teoridag - Equiterapeut
DESCRIPTION:Teoridag för alla ridskoleelever. För mer info. gå in på minridskola.se\nEquiterapeut Linda Fång Söderberg.
URL:https://abyridcenter.se/evenemang/teoridag/
END:VEVENT
BEGIN:VEVENT
DTSTART;TZID=UTC:20251117T080000
DTEND;TZID=UTC:20251117T170000
DTSTAMP:20260421T095323
CREATED:20250924T152811Z
LAST-MODIFIED:20250924T152811Z
UID:4168-1763366400-1763398800@abyridcenter.se
SUMMARY:Vinterterminen startar på ridskola
DESCRIPTION:Vecka 47 börjar vinterterminen på ridskolan.
URL:https://abyridcenter.se/evenemang/vinterterminen-startar-pa-ridskola/
END:VEVENT
BEGIN:VEVENT
DTSTART;TZID=UTC:20251123T080000
DTEND;TZID=UTC:20251123T170000
DTSTAMP:20260421T095323
CREATED:20250923T142157Z
LAST-MODIFIED:20250923T142211Z
UID:4153-1763884800-1763917200@abyridcenter.se
SUMMARY:Dressyrkurs
DESCRIPTION:Dressyrkurs med Mimmi Elmermark.\nFör mer info\, se minridskola.se
URL:https://abyridcenter.se/evenemang/dressyrkurs-2/
END:VEVENT
BEGIN:VEVENT
DTSTART;TZID=UTC:20251123T143000
DTEND;TZID=UTC:20251123T143000
DTSTAMP:20260421T095323
CREATED:20250924T152454Z
LAST-MODIFIED:20250924T152625Z
UID:4165-1763908200-1763908200@abyridcenter.se
SUMMARY:Prova-På ridning för vuxna och barn
DESCRIPTION:Prova-På ridning för vuxna och barn. Inga förkunskaper krävs.\nFör mer info. och anmälan kontakta ridskolan.
URL:https://abyridcenter.se/evenemang/prova-pa-ridning-for-vuxna-och-barn-2/
END:VEVENT
END:VCALENDAR